BEGIN:VCALENDAR
VERSION:2.0
PRODID:-//phil.firespring.org//NONSGML kigkonsult.se iCalcreator 2.30.10//
CALSCALE:GREGORIAN
METHOD:PUBLISH
UID:4e4f10c6-1489-4f0f-83ae-ed5f21683b59
X-WR-CALDESC:Please bring drinking water
X-WR-RELCALID:a370a45088c70b1f578f5ba46c92d350
X-WR-TIMEZONE:America/Chicago
BEGIN:VTIMEZONE
TZID:America/Chicago
BEGIN:STANDARD
TZNAME:CST
DTSTART:20191103T020000
TZOFFSETFROM:-0500
TZOFFSETTO:-0600
RDATE:20201101T020000
RDATE:20211107T020000
END:STANDARD
BEGIN:DAYLIGHT
TZNAME:CDT
DTSTART:20200308T020000
TZOFFSETFROM:-0600
TZOFFSETTO:-0500
RDATE:20210314T020000
END:DAYLIGHT
END:VTIMEZONE
BEGIN:VEVENT
UID:3a72bace-a09e-4b1e-a024-229684c92d01
DTSTAMP:20260425T233258Z
DESCRIPTION:Please bring drinking water
DTSTART;TZID=America/Chicago:20200730T160000
DTEND;TZID=America/Chicago:20200730T170000
LOCATION:Firespring
SUMMARY:Walking Group
END:VEVENT
END:VCALENDAR
