BEGIN:VCALENDAR
VERSION:2.0
PRODID:-//phil.firespring.org//NONSGML kigkonsult.se iCalcreator 2.30.10//
CALSCALE:GREGORIAN
METHOD:PUBLISH
UID:05b5e41b-c7f3-49f9-91bb-2a6a916fad07
X-WR-CALDESC:
X-WR-RELCALID:1372f9b7f6691413a3e720a6fc92810b
X-WR-TIMEZONE:America/Chicago
BEGIN:VTIMEZONE
TZID:America/Chicago
BEGIN:STANDARD
TZNAME:CST
DTSTART:20191103T020000
TZOFFSETFROM:-0500
TZOFFSETTO:-0600
RDATE:20201101T020000
RDATE:20211107T020000
END:STANDARD
BEGIN:DAYLIGHT
TZNAME:CDT
DTSTART:20200308T020000
TZOFFSETFROM:-0600
TZOFFSETTO:-0500
RDATE:20210314T020000
END:DAYLIGHT
END:VTIMEZONE
BEGIN:VEVENT
UID:73036bda-f28d-4492-9ed5-60b7fbec9fab
DTSTAMP:20260425T233014Z
DESCRIPTION:
DTSTART;TZID=America/Chicago:20200731T140000
DTEND;TZID=America/Chicago:20200731T150000
LOCATION:
SUMMARY:Gala
END:VEVENT
END:VCALENDAR
