BEGIN:VCALENDAR
VERSION:2.0
PRODID:-//phil.firespring.org//NONSGML kigkonsult.se iCalcreator 2.30.10//
CALSCALE:GREGORIAN
METHOD:PUBLISH
UID:2fc2a4e1-d38d-4af8-a06a-ebf6e08707fd
X-WR-CALDESC:Please bring drinking water
X-WR-RELCALID:e82721b33c9ccb2f2dce0dcbedca68dc
X-WR-TIMEZONE:America/Chicago
BEGIN:VTIMEZONE
TZID:America/Chicago
BEGIN:STANDARD
TZNAME:CST
DTSTART:20191103T020000
TZOFFSETFROM:-0500
TZOFFSETTO:-0600
RDATE:20201101T020000
RDATE:20211107T020000
END:STANDARD
BEGIN:DAYLIGHT
TZNAME:CDT
DTSTART:20200308T020000
TZOFFSETFROM:-0600
TZOFFSETTO:-0500
RDATE:20210314T020000
END:DAYLIGHT
END:VTIMEZONE
BEGIN:VEVENT
UID:8713f9e2-1ca0-4a80-8835-848f98473514
DTSTAMP:20260425T221032Z
DESCRIPTION:Please bring drinking water
DTSTART;TZID=America/Chicago:20200806T160000
DTEND;TZID=America/Chicago:20200806T170000
LOCATION:Firespring
SUMMARY:Walking Group
END:VEVENT
END:VCALENDAR
