BEGIN:VCALENDAR
VERSION:2.0
PRODID:-//phil.firespring.org//NONSGML kigkonsult.se iCalcreator 2.30.10//
CALSCALE:GREGORIAN
METHOD:PUBLISH
UID:be226edc-d59c-4de7-8d67-2ecefbee3f26
X-WR-CALDESC:
X-WR-RELCALID:8e4d1106b01286ca500f507916e73083
X-WR-TIMEZONE:America/Chicago
BEGIN:VTIMEZONE
TZID:America/Chicago
BEGIN:STANDARD
TZNAME:CST
DTSTART:20191103T020000
TZOFFSETFROM:-0500
TZOFFSETTO:-0600
RDATE:20201101T020000
RDATE:20211107T020000
END:STANDARD
BEGIN:DAYLIGHT
TZNAME:CDT
DTSTART:20200308T020000
TZOFFSETFROM:-0600
TZOFFSETTO:-0500
RDATE:20210314T020000
END:DAYLIGHT
END:VTIMEZONE
BEGIN:VEVENT
UID:8180c15c-10a3-4598-8772-1ca49f860f9e
DTSTAMP:20260425T215903Z
DESCRIPTION:
DTSTART;TZID=America/Chicago:20200831T130000
DTEND;TZID=America/Chicago:20200831T140000
LOCATION:
SUMMARY:Gala
END:VEVENT
END:VCALENDAR
