BEGIN:VCALENDAR
VERSION:2.0
PRODID:-//phil.firespring.org//NONSGML kigkonsult.se iCalcreator 2.30.10//
CALSCALE:GREGORIAN
METHOD:PUBLISH
UID:4a989886-1239-481b-964d-6c50cdc0e7c4
X-WR-CALDESC:
X-WR-RELCALID:9399d9c93f6fd930b2e4775c7fb64379
X-WR-TIMEZONE:America/Chicago
BEGIN:VTIMEZONE
TZID:America/Chicago
BEGIN:STANDARD
TZNAME:CST
DTSTART:20191103T020000
TZOFFSETFROM:-0500
TZOFFSETTO:-0600
RDATE:20201101T020000
RDATE:20211107T020000
END:STANDARD
BEGIN:DAYLIGHT
TZNAME:CDT
DTSTART:20200308T020000
TZOFFSETFROM:-0600
TZOFFSETTO:-0500
RDATE:20210314T020000
END:DAYLIGHT
END:VTIMEZONE
BEGIN:VEVENT
UID:2a8c2c46-f9f4-40b7-a9b4-4765d8bcc133
DTSTAMP:20260425T220939Z
DESCRIPTION:
DTSTART;TZID=America/Chicago:20200831T173000
DTEND;TZID=America/Chicago:20200831T183000
LOCATION:
SUMMARY:Symposium 2021
END:VEVENT
END:VCALENDAR
