BEGIN:VCALENDAR
VERSION:2.0
PRODID:-//phil.firespring.org//NONSGML kigkonsult.se iCalcreator 2.30.10//
CALSCALE:GREGORIAN
METHOD:PUBLISH
UID:c8448e88-8e9a-406f-a241-2f74964fb06e
X-WR-CALDESC:Please bring drinking water
X-WR-RELCALID:41f4ff5878352a74c84a46c55faa9a80
X-WR-TIMEZONE:America/Chicago
BEGIN:VTIMEZONE
TZID:America/Chicago
BEGIN:STANDARD
TZNAME:CST
DTSTART:20191103T020000
TZOFFSETFROM:-0500
TZOFFSETTO:-0600
RDATE:20201101T020000
RDATE:20211107T020000
END:STANDARD
BEGIN:DAYLIGHT
TZNAME:CDT
DTSTART:20200308T020000
TZOFFSETFROM:-0600
TZOFFSETTO:-0500
RDATE:20210314T020000
RDATE:20220313T020000
END:DAYLIGHT
END:VTIMEZONE
BEGIN:VEVENT
UID:3a6384b0-4777-43b8-a807-676db29bf597
DTSTAMP:20260425T194229Z
DESCRIPTION:Please bring drinking water
DTSTART;TZID=America/Chicago:20201029T160000
DTEND;TZID=America/Chicago:20201029T170000
LOCATION:Firespring
SUMMARY:Walking Group
END:VEVENT
END:VCALENDAR
