BEGIN:VCALENDAR
VERSION:2.0
PRODID:-//phil.firespring.org//NONSGML kigkonsult.se iCalcreator 2.30.10//
CALSCALE:GREGORIAN
METHOD:PUBLISH
UID:7a90a1ef-24b2-470f-8926-f3dbdf0dea7e
X-WR-CALDESC:Please bring drinking water
X-WR-RELCALID:3bd70656c9e298760d1d535176397c76
X-WR-TIMEZONE:America/Chicago
BEGIN:VTIMEZONE
TZID:America/Chicago
BEGIN:STANDARD
TZNAME:CST
DTSTART:20201101T020000
TZOFFSETFROM:-0500
TZOFFSETTO:-0600
RDATE:20211107T020000
END:STANDARD
BEGIN:DAYLIGHT
TZNAME:CDT
DTSTART:20200308T020000
TZOFFSETFROM:-0600
TZOFFSETTO:-0500
RDATE:20210314T020000
RDATE:20220313T020000
END:DAYLIGHT
END:VTIMEZONE
BEGIN:VEVENT
UID:a325f417-87b4-4dab-8514-d21317b92b92
DTSTAMP:20260425T182054Z
DESCRIPTION:Please bring drinking water
DTSTART;TZID=America/Chicago:20201105T160000
DTEND;TZID=America/Chicago:20201105T170000
LOCATION:Firespring
SUMMARY:Walking Group
END:VEVENT
END:VCALENDAR
