BEGIN:VCALENDAR
VERSION:2.0
PRODID:-//phil.firespring.org//NONSGML kigkonsult.se iCalcreator 2.30.10//
CALSCALE:GREGORIAN
METHOD:PUBLISH
UID:c095bce2-ab20-44f9-93fe-58184119043c
X-WR-CALDESC:Please bring drinking water
X-WR-RELCALID:b64d6dc8d91c8554d198b5c99afd56f3
X-WR-TIMEZONE:America/Chicago
BEGIN:VTIMEZONE
TZID:America/Chicago
BEGIN:STANDARD
TZNAME:CST
DTSTART:20201101T020000
TZOFFSETFROM:-0500
TZOFFSETTO:-0600
RDATE:20211107T020000
END:STANDARD
BEGIN:DAYLIGHT
TZNAME:CDT
DTSTART:20200308T020000
TZOFFSETFROM:-0600
TZOFFSETTO:-0500
RDATE:20210314T020000
RDATE:20220313T020000
END:DAYLIGHT
END:VTIMEZONE
BEGIN:VEVENT
UID:04cd1ee2-2d72-43ab-a9cd-50a1338884c3
DTSTAMP:20260425T170048Z
DESCRIPTION:Please bring drinking water
DTSTART;TZID=America/Chicago:20201203T160000
DTEND;TZID=America/Chicago:20201203T170000
LOCATION:Firespring
SUMMARY:Walking Group
END:VEVENT
END:VCALENDAR
