BEGIN:VCALENDAR
VERSION:2.0
PRODID:-//phil.firespring.org//NONSGML kigkonsult.se iCalcreator 2.30.10//
CALSCALE:GREGORIAN
METHOD:PUBLISH
UID:27cd5fcd-f12e-43dc-996d-fc32c2df8af0
X-WR-CALDESC:Please bring drinking water
X-WR-RELCALID:67e66e2608c6e6655959ecab6d7c0367
X-WR-TIMEZONE:America/Chicago
BEGIN:VTIMEZONE
TZID:America/Chicago
BEGIN:STANDARD
TZNAME:CST
DTSTART:20201101T020000
TZOFFSETFROM:-0500
TZOFFSETTO:-0600
RDATE:20211107T020000
END:STANDARD
BEGIN:DAYLIGHT
TZNAME:CDT
DTSTART:20200308T020000
TZOFFSETFROM:-0600
TZOFFSETTO:-0500
RDATE:20210314T020000
RDATE:20220313T020000
END:DAYLIGHT
END:VTIMEZONE
BEGIN:VEVENT
UID:b32f964e-710e-4545-bf0a-5e04f9a11de3
DTSTAMP:20260425T155539Z
DESCRIPTION:Please bring drinking water
DTSTART;TZID=America/Chicago:20210121T160000
DTEND;TZID=America/Chicago:20210121T170000
LOCATION:Firespring
SUMMARY:Walking Group
END:VEVENT
END:VCALENDAR
