BEGIN:VCALENDAR
VERSION:2.0
PRODID:-//phil.firespring.org//NONSGML kigkonsult.se iCalcreator 2.30.10//
CALSCALE:GREGORIAN
METHOD:PUBLISH
UID:27d02065-fbbf-4806-8799-45bcb0619b43
X-WR-CALDESC:
X-WR-RELCALID:7d06bf1e8be8409e62ee2af960ded32f
X-WR-TIMEZONE:America/Chicago
BEGIN:VTIMEZONE
TZID:America/Chicago
BEGIN:STANDARD
TZNAME:CST
DTSTART:20201101T020000
TZOFFSETFROM:-0500
TZOFFSETTO:-0600
RDATE:20211107T020000
END:STANDARD
BEGIN:DAYLIGHT
TZNAME:CDT
DTSTART:20200308T020000
TZOFFSETFROM:-0600
TZOFFSETTO:-0500
RDATE:20210314T020000
RDATE:20220313T020000
END:DAYLIGHT
END:VTIMEZONE
BEGIN:VEVENT
UID:f1ee4bef-471f-4589-9bfe-59b138c1d739
DTSTAMP:20260425T142422Z
DESCRIPTION:
DTSTART;TZID=America/Chicago:20210201T130000
DTEND;TZID=America/Chicago:20210201T140000
LOCATION:
SUMMARY:Event 1
END:VEVENT
END:VCALENDAR
