BEGIN:VCALENDAR
VERSION:2.0
PRODID:-//phil.firespring.org//NONSGML kigkonsult.se iCalcreator 2.30.10//
CALSCALE:GREGORIAN
METHOD:PUBLISH
UID:d7edd800-827a-4fee-8498-f1044cb1723d
X-WR-CALDESC:Please bring drinking water
X-WR-RELCALID:bc396afa32c2b84488bcbb058d002585
X-WR-TIMEZONE:America/Chicago
BEGIN:VTIMEZONE
TZID:America/Chicago
BEGIN:STANDARD
TZNAME:CST
DTSTART:20201101T020000
TZOFFSETFROM:-0500
TZOFFSETTO:-0600
RDATE:20211107T020000
END:STANDARD
BEGIN:DAYLIGHT
TZNAME:CDT
DTSTART:20200308T020000
TZOFFSETFROM:-0600
TZOFFSETTO:-0500
RDATE:20210314T020000
RDATE:20220313T020000
END:DAYLIGHT
END:VTIMEZONE
BEGIN:VEVENT
UID:fb8b5d0f-8066-4c2e-9d01-fed01061d570
DTSTAMP:20260425T142538Z
DESCRIPTION:Please bring drinking water
DTSTART;TZID=America/Chicago:20210204T160000
DTEND;TZID=America/Chicago:20210204T170000
LOCATION:Firespring
SUMMARY:Walking Group
END:VEVENT
END:VCALENDAR
