BEGIN:VCALENDAR
VERSION:2.0
PRODID:-//phil.firespring.org//NONSGML kigkonsult.se iCalcreator 2.30.10//
CALSCALE:GREGORIAN
METHOD:PUBLISH
UID:6f869e29-f24b-4a64-8433-706c542b6613
X-WR-CALDESC:Please bring drinking water
X-WR-RELCALID:d0fdd1a9196b9012e84cc0e7f95d0e3d
X-WR-TIMEZONE:America/Chicago
BEGIN:VTIMEZONE
TZID:America/Chicago
BEGIN:STANDARD
TZNAME:CST
DTSTART:20201101T020000
TZOFFSETFROM:-0500
TZOFFSETTO:-0600
RDATE:20211107T020000
END:STANDARD
BEGIN:DAYLIGHT
TZNAME:CDT
DTSTART:20200308T020000
TZOFFSETFROM:-0600
TZOFFSETTO:-0500
RDATE:20210314T020000
RDATE:20220313T020000
END:DAYLIGHT
END:VTIMEZONE
BEGIN:VEVENT
UID:9dbd0275-0b70-4755-b98d-5cc31fcecdfc
DTSTAMP:20260425T142539Z
DESCRIPTION:Please bring drinking water
DTSTART;TZID=America/Chicago:20210211T160000
DTEND;TZID=America/Chicago:20210211T170000
LOCATION:Firespring
SUMMARY:Walking Group
END:VEVENT
END:VCALENDAR
