BEGIN:VCALENDAR
VERSION:2.0
PRODID:-//phil.firespring.org//NONSGML kigkonsult.se iCalcreator 2.30.10//
CALSCALE:GREGORIAN
METHOD:PUBLISH
UID:2fdfc7e3-dc3e-4550-b9c7-415f25fe6546
X-WR-CALDESC:
X-WR-RELCALID:5f64e0e86965971a41cd569f18fbdc0e
X-WR-TIMEZONE:America/Chicago
BEGIN:VTIMEZONE
TZID:America/Chicago
BEGIN:STANDARD
TZNAME:CST
DTSTART:20201101T020000
TZOFFSETFROM:-0500
TZOFFSETTO:-0600
RDATE:20211107T020000
END:STANDARD
BEGIN:DAYLIGHT
TZNAME:CDT
DTSTART:20200308T020000
TZOFFSETFROM:-0600
TZOFFSETTO:-0500
RDATE:20210314T020000
RDATE:20220313T020000
END:DAYLIGHT
END:VTIMEZONE
BEGIN:VEVENT
UID:03f3cbc9-c1e0-4784-9467-6aa14fb9cc3a
DTSTAMP:20260425T142539Z
DESCRIPTION:
DTSTART;TZID=America/Chicago:20210223T110000
DTEND;TZID=America/Chicago:20210223T120000
LOCATION:
SUMMARY:Annual Fundraising Breakfast
END:VEVENT
END:VCALENDAR
