BEGIN:VCALENDAR
VERSION:2.0
PRODID:-//phil.firespring.org//NONSGML kigkonsult.se iCalcreator 2.30.10//
CALSCALE:GREGORIAN
METHOD:PUBLISH
UID:54d514e6-90ae-4c7a-b212-762c7969be7d
X-WR-CALDESC:Join us here on Zoom. Bring your own comfort food!
X-WR-RELCALID:1ccffa135c23fe9361379e3c9c364674
X-WR-TIMEZONE:America/Chicago
BEGIN:VTIMEZONE
TZID:America/Chicago
BEGIN:STANDARD
TZNAME:CST
DTSTART:20201101T020000
TZOFFSETFROM:-0500
TZOFFSETTO:-0600
RDATE:20211107T020000
END:STANDARD
BEGIN:DAYLIGHT
TZNAME:CDT
DTSTART:20200308T020000
TZOFFSETFROM:-0600
TZOFFSETTO:-0500
RDATE:20210314T020000
RDATE:20220313T020000
END:DAYLIGHT
END:VTIMEZONE
BEGIN:VEVENT
UID:6d24844d-8bf9-4e7c-b156-afe4b4afdf22
DTSTAMP:20260425T142436Z
DESCRIPTION:Join us here on Zoom. Bring your own comfort food!
DTSTART;TZID=America/Chicago:20210223T103000
DTEND;TZID=America/Chicago:20210223T113000
LOCATION:
SUMMARY:Omaha Table Talk
END:VEVENT
END:VCALENDAR
