BEGIN:VCALENDAR
VERSION:2.0
PRODID:-//phil.firespring.org//NONSGML kigkonsult.se iCalcreator 2.30.10//
CALSCALE:GREGORIAN
METHOD:PUBLISH
UID:db1a7e7c-e56a-49e0-be78-f4f2f5b15430
X-WR-CALDESC:
X-WR-RELCALID:dfa1866d52d840cb198a220c0ca7f885
X-WR-TIMEZONE:America/Chicago
BEGIN:VTIMEZONE
TZID:America/Chicago
BEGIN:STANDARD
TZNAME:CST
DTSTART:20201101T020000
TZOFFSETFROM:-0500
TZOFFSETTO:-0600
RDATE:20211107T020000
END:STANDARD
BEGIN:DAYLIGHT
TZNAME:CDT
DTSTART:20200308T020000
TZOFFSETFROM:-0600
TZOFFSETTO:-0500
RDATE:20210314T020000
RDATE:20220313T020000
END:DAYLIGHT
END:VTIMEZONE
BEGIN:VEVENT
UID:0eaea6ce-93ef-41f3-aee3-671d7859e4fb
DTSTAMP:20260425T142535Z
DESCRIPTION:
DTSTART;TZID=America/Chicago:20210224T160000
DTEND;TZID=America/Chicago:20210224T170000
LOCATION:
SUMMARY:Conference 2021
END:VEVENT
END:VCALENDAR
