BEGIN:VCALENDAR
VERSION:2.0
PRODID:-//phil.firespring.org//NONSGML kigkonsult.se iCalcreator 2.30.10//
CALSCALE:GREGORIAN
METHOD:PUBLISH
UID:dd3bedfa-b25f-4327-b1c4-2b1561bd4774
X-WR-CALDESC:
X-WR-RELCALID:5e9ab6810ee813619cb66e0ac664f1d1
X-WR-TIMEZONE:America/Chicago
BEGIN:VTIMEZONE
TZID:America/Chicago
BEGIN:STANDARD
TZNAME:CST
DTSTART:20201101T020000
TZOFFSETFROM:-0500
TZOFFSETTO:-0600
RDATE:20211107T020000
END:STANDARD
BEGIN:DAYLIGHT
TZNAME:CDT
DTSTART:20200308T020000
TZOFFSETFROM:-0600
TZOFFSETTO:-0500
RDATE:20210314T020000
RDATE:20220313T020000
END:DAYLIGHT
END:VTIMEZONE
BEGIN:VEVENT
UID:4de31553-cabf-4b7a-a1ca-745027f99985
DTSTAMP:20260425T142535Z
DESCRIPTION:
DTSTART;TZID=America/Chicago:20210228T093000
DTEND;TZID=America/Chicago:20210228T103000
LOCATION:
SUMMARY:Annual Kick Off
END:VEVENT
END:VCALENDAR
