BEGIN:VCALENDAR
VERSION:2.0
PRODID:-//phil.firespring.org//NONSGML kigkonsult.se iCalcreator 2.30.10//
CALSCALE:GREGORIAN
METHOD:PUBLISH
UID:a02701fc-d014-4614-956e-00b002ad5715
X-WR-CALDESC:Please bring drinking water
X-WR-RELCALID:5dc8d1b7f0add2a797571d605b9e5963
X-WR-TIMEZONE:America/Chicago
BEGIN:VTIMEZONE
TZID:America/Chicago
BEGIN:STANDARD
TZNAME:CST
DTSTART:20201101T020000
TZOFFSETFROM:-0500
TZOFFSETTO:-0600
RDATE:20211107T020000
END:STANDARD
BEGIN:DAYLIGHT
TZNAME:CDT
DTSTART:20210314T020000
TZOFFSETFROM:-0600
TZOFFSETTO:-0500
RDATE:20220313T020000
END:DAYLIGHT
END:VTIMEZONE
BEGIN:VEVENT
UID:19c517f5-6739-4419-a278-f037638f3912
DTSTAMP:20260425T130121Z
DESCRIPTION:Please bring drinking water
DTSTART;TZID=America/Chicago:20210311T160000
DTEND;TZID=America/Chicago:20210311T170000
LOCATION:Firespring
SUMMARY:Walking Group
END:VEVENT
END:VCALENDAR
