BEGIN:VCALENDAR
VERSION:2.0
PRODID:-//phil.firespring.org//NONSGML kigkonsult.se iCalcreator 2.30.10//
CALSCALE:GREGORIAN
METHOD:PUBLISH
UID:cfe8710a-cf49-48e8-b5f8-147921fdf0a1
X-WR-CALDESC:Please bring drinking water
X-WR-RELCALID:f92e065bdcc57348605196bc56d8973f
X-WR-TIMEZONE:America/Chicago
BEGIN:VTIMEZONE
TZID:America/Chicago
BEGIN:STANDARD
TZNAME:CST
DTSTART:20201101T020000
TZOFFSETFROM:-0500
TZOFFSETTO:-0600
RDATE:20211107T020000
END:STANDARD
BEGIN:DAYLIGHT
TZNAME:CDT
DTSTART:20210314T020000
TZOFFSETFROM:-0600
TZOFFSETTO:-0500
RDATE:20220313T020000
END:DAYLIGHT
END:VTIMEZONE
BEGIN:VEVENT
UID:8ecda70f-f873-4cbe-9704-8e9ccc4c601a
DTSTAMP:20260425T130141Z
DESCRIPTION:Please bring drinking water
DTSTART;TZID=America/Chicago:20210318T160000
DTEND;TZID=America/Chicago:20210318T170000
LOCATION:Firespring
SUMMARY:Walking Group
END:VEVENT
END:VCALENDAR
