BEGIN:VCALENDAR
VERSION:2.0
PRODID:-//phil.firespring.org//NONSGML kigkonsult.se iCalcreator 2.30.10//
CALSCALE:GREGORIAN
METHOD:PUBLISH
UID:ee214adb-2498-41c0-add2-731faea0ae37
X-WR-CALDESC:
X-WR-RELCALID:4add93256e7e0a720c70d360e6a31f8b
X-WR-TIMEZONE:America/Chicago
BEGIN:VTIMEZONE
TZID:America/Chicago
BEGIN:STANDARD
TZNAME:CST
DTSTART:20201101T020000
TZOFFSETFROM:-0500
TZOFFSETTO:-0600
RDATE:20211107T020000
END:STANDARD
BEGIN:DAYLIGHT
TZNAME:CDT
DTSTART:20210314T020000
TZOFFSETFROM:-0600
TZOFFSETTO:-0500
RDATE:20220313T020000
END:DAYLIGHT
END:VTIMEZONE
BEGIN:VEVENT
UID:bb40d3a8-5309-49d5-868b-f9852788705b
DTSTAMP:20260425T130023Z
DESCRIPTION:
DTSTART;TZID=America/Chicago:20210323T000000
DTEND;TZID=America/Chicago:20210323T235900
LOCATION:
SUMMARY:Event Space 1 Open
END:VEVENT
END:VCALENDAR
