BEGIN:VCALENDAR
VERSION:2.0
PRODID:-//phil.firespring.org//NONSGML kigkonsult.se iCalcreator 2.30.10//
CALSCALE:GREGORIAN
METHOD:PUBLISH
UID:89e8a8cc-4fa5-4b15-b505-179002edebab
X-WR-CALDESC:
X-WR-RELCALID:ca1e5342f035ed14e58ac88a7ebafd4a
X-WR-TIMEZONE:America/Chicago
BEGIN:VTIMEZONE
TZID:America/Chicago
BEGIN:STANDARD
TZNAME:CST
DTSTART:20201101T020000
TZOFFSETFROM:-0500
TZOFFSETTO:-0600
RDATE:20211107T020000
END:STANDARD
BEGIN:DAYLIGHT
TZNAME:CDT
DTSTART:20210314T020000
TZOFFSETFROM:-0600
TZOFFSETTO:-0500
RDATE:20220313T020000
END:DAYLIGHT
END:VTIMEZONE
BEGIN:VEVENT
UID:9629d509-cebc-4de0-a70d-e1b0d8a32089
DTSTAMP:20260425T130015Z
DESCRIPTION:
DTSTART;TZID=America/Chicago:20210330T103000
DTEND;TZID=America/Chicago:20210330T113000
LOCATION:
SUMMARY:Annual Fundraiser
END:VEVENT
END:VCALENDAR
