BEGIN:VCALENDAR
VERSION:2.0
PRODID:-//phil.firespring.org//NONSGML kigkonsult.se iCalcreator 2.30.10//
CALSCALE:GREGORIAN
METHOD:PUBLISH
UID:c0b7f8ef-0295-40f6-b4b2-2122de7393c2
X-WR-CALDESC:
X-WR-RELCALID:bee22d903a14dfff7fba0d986084136e
X-WR-TIMEZONE:America/Chicago
BEGIN:VTIMEZONE
TZID:America/Chicago
BEGIN:STANDARD
TZNAME:CST
DTSTART:20201101T020000
TZOFFSETFROM:-0500
TZOFFSETTO:-0600
RDATE:20211107T020000
END:STANDARD
BEGIN:DAYLIGHT
TZNAME:CDT
DTSTART:20210314T020000
TZOFFSETFROM:-0600
TZOFFSETTO:-0500
RDATE:20220313T020000
END:DAYLIGHT
END:VTIMEZONE
BEGIN:VEVENT
UID:223bd4c3-a989-43c3-a2e6-ede4a0f572f7
DTSTAMP:20260425T130227Z
DESCRIPTION:
DTSTART;TZID=America/Chicago:20210331T110000
DTEND;TZID=America/Chicago:20210331T120000
LOCATION:
SUMMARY:Annual Meeting
END:VEVENT
END:VCALENDAR
