BEGIN:VCALENDAR
VERSION:2.0
PRODID:-//phil.firespring.org//NONSGML kigkonsult.se iCalcreator 2.30.10//
CALSCALE:GREGORIAN
METHOD:PUBLISH
UID:5304393a-965a-48fe-b7a7-23f9509ad35b
X-WR-CALDESC:
X-WR-RELCALID:dcd71f3862953bfbe25730513e2a7dd8
X-WR-TIMEZONE:America/Chicago
BEGIN:VTIMEZONE
TZID:America/Chicago
BEGIN:STANDARD
TZNAME:CST
DTSTART:20201101T020000
TZOFFSETFROM:-0500
TZOFFSETTO:-0600
RDATE:20211107T020000
END:STANDARD
BEGIN:DAYLIGHT
TZNAME:CDT
DTSTART:20210314T020000
TZOFFSETFROM:-0600
TZOFFSETTO:-0500
RDATE:20220313T020000
END:DAYLIGHT
END:VTIMEZONE
BEGIN:VEVENT
UID:6b9c790e-2fdd-4440-afa6-375b732aca47
DTSTAMP:20260425T130024Z
DESCRIPTION:
DTSTART;TZID=America/Chicago:20210331T140000
DTEND;TZID=America/Chicago:20210331T150000
LOCATION:
SUMMARY:Town Hall
END:VEVENT
END:VCALENDAR
