BEGIN:VCALENDAR
VERSION:2.0
PRODID:-//phil.firespring.org//NONSGML kigkonsult.se iCalcreator 2.30.10//
CALSCALE:GREGORIAN
METHOD:PUBLISH
UID:0fc84f59-9143-46cf-8752-46803f2bca7a
X-WR-CALDESC:
X-WR-RELCALID:1195376816a5eac29fde77ca9ba67007
X-WR-TIMEZONE:America/Chicago
BEGIN:VTIMEZONE
TZID:America/Chicago
BEGIN:STANDARD
TZNAME:CST
DTSTART:20201101T020000
TZOFFSETFROM:-0500
TZOFFSETTO:-0600
RDATE:20211107T020000
END:STANDARD
BEGIN:DAYLIGHT
TZNAME:CDT
DTSTART:20210314T020000
TZOFFSETFROM:-0600
TZOFFSETTO:-0500
RDATE:20220313T020000
END:DAYLIGHT
END:VTIMEZONE
BEGIN:VEVENT
UID:93c73480-6d3f-4ac7-b5a6-8ef83ddb6db5
DTSTAMP:20260425T113158Z
DESCRIPTION:
DTSTART;TZID=America/Chicago:20210428T153000
DTEND;TZID=America/Chicago:20210428T163000
LOCATION:
SUMMARY:Golf Event
END:VEVENT
END:VCALENDAR
