BEGIN:VCALENDAR
VERSION:2.0
PRODID:-//phil.firespring.org//NONSGML kigkonsult.se iCalcreator 2.30.10//
CALSCALE:GREGORIAN
METHOD:PUBLISH
UID:1278655f-233a-45b4-97a8-308735f7127b
X-WR-CALDESC:Please bring drinking water
X-WR-RELCALID:35715b98eee14a5e25f1c27db4c7f374
X-WR-TIMEZONE:America/Chicago
BEGIN:VTIMEZONE
TZID:America/Chicago
BEGIN:STANDARD
TZNAME:CST
DTSTART:20201101T020000
TZOFFSETFROM:-0500
TZOFFSETTO:-0600
RDATE:20211107T020000
END:STANDARD
BEGIN:DAYLIGHT
TZNAME:CDT
DTSTART:20210314T020000
TZOFFSETFROM:-0600
TZOFFSETTO:-0500
RDATE:20220313T020000
END:DAYLIGHT
END:VTIMEZONE
BEGIN:VEVENT
UID:5681914f-33b6-4a8c-89ce-1385b7d73470
DTSTAMP:20260425T113501Z
DESCRIPTION:Please bring drinking water
DTSTART;TZID=America/Chicago:20210429T160000
DTEND;TZID=America/Chicago:20210429T170000
LOCATION:Firespring
SUMMARY:Walking Group
END:VEVENT
END:VCALENDAR
