BEGIN:VCALENDAR
VERSION:2.0
PRODID:-//phil.firespring.org//NONSGML kigkonsult.se iCalcreator 2.30.10//
CALSCALE:GREGORIAN
METHOD:PUBLISH
UID:7da7f5e1-aceb-4da6-a5a1-32c3a23124a0
X-WR-CALDESC:
X-WR-RELCALID:79e4fa2e232480dd44c5266b46a141d2
X-WR-TIMEZONE:America/Chicago
BEGIN:VTIMEZONE
TZID:America/Chicago
BEGIN:STANDARD
TZNAME:CST
DTSTART:20201101T020000
TZOFFSETFROM:-0500
TZOFFSETTO:-0600
RDATE:20211107T020000
END:STANDARD
BEGIN:DAYLIGHT
TZNAME:CDT
DTSTART:20210314T020000
TZOFFSETFROM:-0600
TZOFFSETTO:-0500
RDATE:20220313T020000
END:DAYLIGHT
END:VTIMEZONE
BEGIN:VEVENT
UID:c8a08a47-5bb7-4736-a62b-7d8124020357
DTSTAMP:20260425T113727Z
DESCRIPTION:
DTSTART;TZID=America/Chicago:20210429T110000
DTEND;TZID=America/Chicago:20210429T120000
LOCATION:
SUMMARY:Red Dress Gala
END:VEVENT
END:VCALENDAR
