BEGIN:VCALENDAR
VERSION:2.0
PRODID:-//phil.firespring.org//NONSGML kigkonsult.se iCalcreator 2.30.10//
CALSCALE:GREGORIAN
METHOD:PUBLISH
UID:f8c1faf3-3338-4503-ba4e-6256bf5bb14a
X-WR-CALDESC:
X-WR-RELCALID:4e309aaf224f6f8813dfec639729abc0
X-WR-TIMEZONE:America/Chicago
BEGIN:VTIMEZONE
TZID:America/Chicago
BEGIN:STANDARD
TZNAME:CST
DTSTART:20201101T020000
TZOFFSETFROM:-0500
TZOFFSETTO:-0600
RDATE:20211107T020000
END:STANDARD
BEGIN:DAYLIGHT
TZNAME:CDT
DTSTART:20210314T020000
TZOFFSETFROM:-0600
TZOFFSETTO:-0500
RDATE:20220313T020000
END:DAYLIGHT
END:VTIMEZONE
BEGIN:VEVENT
UID:eae2bee2-9e98-454e-b79b-551cb85e7e98
DTSTAMP:20260425T113158Z
DESCRIPTION:
DTSTART;TZID=America/Chicago:20210430T150000
DTEND;TZID=America/Chicago:20210430T160000
LOCATION:
SUMMARY:Gala 2021
END:VEVENT
END:VCALENDAR
