BEGIN:VCALENDAR
VERSION:2.0
PRODID:-//phil.firespring.org//NONSGML kigkonsult.se iCalcreator 2.30.10//
CALSCALE:GREGORIAN
METHOD:PUBLISH
UID:54454e4c-30c6-49e4-b035-15e7a4b54603
X-WR-CALDESC:Please bring drinking water
X-WR-RELCALID:019f580c06b1ef6376cddab8c5919331
X-WR-TIMEZONE:America/Chicago
BEGIN:VTIMEZONE
TZID:America/Chicago
BEGIN:STANDARD
TZNAME:CST
DTSTART:20201101T020000
TZOFFSETFROM:-0500
TZOFFSETTO:-0600
RDATE:20211107T020000
RDATE:20221106T020000
END:STANDARD
BEGIN:DAYLIGHT
TZNAME:CDT
DTSTART:20210314T020000
TZOFFSETFROM:-0600
TZOFFSETTO:-0500
RDATE:20220313T020000
END:DAYLIGHT
END:VTIMEZONE
BEGIN:VEVENT
UID:58ead3ba-1311-4350-8218-3cacfe97fcdc
DTSTAMP:20260425T102704Z
DESCRIPTION:Please bring drinking water
DTSTART;TZID=America/Chicago:20210527T160000
DTEND;TZID=America/Chicago:20210527T170000
LOCATION:Firespring
SUMMARY:Walking Group
END:VEVENT
END:VCALENDAR
