BEGIN:VCALENDAR
VERSION:2.0
PRODID:-//phil.firespring.org//NONSGML kigkonsult.se iCalcreator 2.30.10//
CALSCALE:GREGORIAN
METHOD:PUBLISH
UID:9a60f3f9-a24f-4dd2-9451-7bee759fc14b
X-WR-CALDESC:
X-WR-RELCALID:8f7d451f890c6a04b8e389d8155a7f24
X-WR-TIMEZONE:America/Chicago
BEGIN:VTIMEZONE
TZID:America/Chicago
BEGIN:STANDARD
TZNAME:CST
DTSTART:20201101T020000
TZOFFSETFROM:-0500
TZOFFSETTO:-0600
RDATE:20211107T020000
RDATE:20221106T020000
END:STANDARD
BEGIN:DAYLIGHT
TZNAME:CDT
DTSTART:20210314T020000
TZOFFSETFROM:-0600
TZOFFSETTO:-0500
RDATE:20220313T020000
END:DAYLIGHT
END:VTIMEZONE
BEGIN:VEVENT
UID:1c9e3692-b021-4a5e-8261-e921d212fcfb
DTSTAMP:20260423T080748Z
DESCRIPTION:
DTSTART;TZID=America/Chicago:20210726T093000
DTEND;TZID=America/Chicago:20210726T103000
LOCATION:
SUMMARY:Gala
END:VEVENT
END:VCALENDAR
