BEGIN:VCALENDAR
VERSION:2.0
PRODID:-//phil.firespring.org//NONSGML kigkonsult.se iCalcreator 2.30.10//
CALSCALE:GREGORIAN
METHOD:PUBLISH
UID:18039919-658a-4136-ac08-5da6c7459d3c
X-WR-CALDESC:
X-WR-RELCALID:7344e35725f2d99e41ed6f3dc40e6ac3
X-WR-TIMEZONE:America/Chicago
BEGIN:VTIMEZONE
TZID:America/Chicago
BEGIN:STANDARD
TZNAME:CST
DTSTART:20201101T020000
TZOFFSETFROM:-0500
TZOFFSETTO:-0600
RDATE:20211107T020000
RDATE:20221106T020000
END:STANDARD
BEGIN:DAYLIGHT
TZNAME:CDT
DTSTART:20210314T020000
TZOFFSETFROM:-0600
TZOFFSETTO:-0500
RDATE:20220313T020000
END:DAYLIGHT
END:VTIMEZONE
BEGIN:VEVENT
UID:3b5cac43-de90-4e9a-aafb-1994b39537c2
DTSTAMP:20260423T080836Z
DESCRIPTION:
DTSTART;TZID=America/Chicago:20210728T120000
DTEND;TZID=America/Chicago:20210728T130000
LOCATION:
SUMMARY:Camp Registration
END:VEVENT
END:VCALENDAR
