BEGIN:VCALENDAR
VERSION:2.0
PRODID:-//phil.firespring.org//NONSGML kigkonsult.se iCalcreator 2.30.10//
CALSCALE:GREGORIAN
METHOD:PUBLISH
UID:205a2c6e-6e63-4187-b01c-e340621d96db
X-WR-CALDESC:
X-WR-RELCALID:55807927b4f659f700a1c240200f7715
X-WR-TIMEZONE:America/Chicago
BEGIN:VTIMEZONE
TZID:America/Chicago
BEGIN:STANDARD
TZNAME:CST
DTSTART:20201101T020000
TZOFFSETFROM:-0500
TZOFFSETTO:-0600
RDATE:20211107T020000
RDATE:20221106T020000
END:STANDARD
BEGIN:DAYLIGHT
TZNAME:CDT
DTSTART:20210314T020000
TZOFFSETFROM:-0600
TZOFFSETTO:-0500
RDATE:20220313T020000
END:DAYLIGHT
END:VTIMEZONE
BEGIN:VEVENT
UID:83c7ede5-cf62-4640-8d1f-7c9b889b90dc
DTSTAMP:20260423T080731Z
DESCRIPTION:
DTSTART;TZID=America/Chicago:20210730T100000
DTEND;TZID=America/Chicago:20210730T110000
LOCATION:
SUMMARY:Performance
END:VEVENT
END:VCALENDAR
