BEGIN:VCALENDAR
VERSION:2.0
PRODID:-//phil.firespring.org//NONSGML kigkonsult.se iCalcreator 2.30.10//
CALSCALE:GREGORIAN
METHOD:PUBLISH
UID:aeaac4c7-1f6b-4d40-b742-0f93db6cb302
X-WR-CALDESC:
X-WR-RELCALID:c26e8d9d9cb56b16b5b493f1e74d580f
X-WR-TIMEZONE:America/Chicago
BEGIN:VTIMEZONE
TZID:America/Chicago
BEGIN:STANDARD
TZNAME:CST
DTSTART:20201101T020000
TZOFFSETFROM:-0500
TZOFFSETTO:-0600
RDATE:20211107T020000
RDATE:20221106T020000
END:STANDARD
BEGIN:DAYLIGHT
TZNAME:CDT
DTSTART:20210314T020000
TZOFFSETFROM:-0600
TZOFFSETTO:-0500
RDATE:20220313T020000
END:DAYLIGHT
END:VTIMEZONE
BEGIN:VEVENT
UID:5f40a0af-78d0-4499-9aa3-069fad24415a
DTSTAMP:20260423T080837Z
DESCRIPTION:
DTSTART;TZID=America/Chicago:20210730T140000
DTEND;TZID=America/Chicago:20210730T150000
LOCATION:
SUMMARY:Student Social
END:VEVENT
END:VCALENDAR
