BEGIN:VCALENDAR
VERSION:2.0
PRODID:-//phil.firespring.org//NONSGML kigkonsult.se iCalcreator 2.30.10//
CALSCALE:GREGORIAN
METHOD:PUBLISH
UID:ad9ab7ff-e6cb-4287-8d82-f89c8a40b04f
X-WR-CALDESC:
X-WR-RELCALID:aeeb5645d26cab76c3843d484c74e434
X-WR-TIMEZONE:America/Chicago
BEGIN:VTIMEZONE
TZID:America/Chicago
BEGIN:STANDARD
TZNAME:CST
DTSTART:20201101T020000
TZOFFSETFROM:-0500
TZOFFSETTO:-0600
RDATE:20211107T020000
RDATE:20221106T020000
END:STANDARD
BEGIN:DAYLIGHT
TZNAME:CDT
DTSTART:20210314T020000
TZOFFSETFROM:-0600
TZOFFSETTO:-0500
RDATE:20220313T020000
END:DAYLIGHT
END:VTIMEZONE
BEGIN:VEVENT
UID:f9accf78-76f3-44ea-90f1-99ee18199e75
DTSTAMP:20260423T064708Z
DESCRIPTION:
DTSTART;TZID=America/Chicago:20210806T143000
DTEND;TZID=America/Chicago:20210806T153000
LOCATION:
SUMMARY:Tour 9-4
END:VEVENT
END:VCALENDAR
