BEGIN:VCALENDAR
VERSION:2.0
PRODID:-//phil.firespring.org//NONSGML kigkonsult.se iCalcreator 2.30.10//
CALSCALE:GREGORIAN
METHOD:PUBLISH
UID:778eecaa-d1aa-4ccb-82c0-6d763021006f
X-WR-CALDESC:
X-WR-RELCALID:bdf494e21e61e77a0460513ceec25512
X-WR-TIMEZONE:America/Chicago
BEGIN:VTIMEZONE
TZID:America/Chicago
BEGIN:STANDARD
TZNAME:CST
DTSTART:20201101T020000
TZOFFSETFROM:-0500
TZOFFSETTO:-0600
RDATE:20211107T020000
RDATE:20221106T020000
END:STANDARD
BEGIN:DAYLIGHT
TZNAME:CDT
DTSTART:20210314T020000
TZOFFSETFROM:-0600
TZOFFSETTO:-0500
RDATE:20220313T020000
END:DAYLIGHT
END:VTIMEZONE
BEGIN:VEVENT
UID:e3a6c2e4-14e1-4133-93e6-189558ebc387
DTSTAMP:20260423T064547Z
DESCRIPTION:
DTSTART;TZID=America/Chicago:20210809T113000
DTEND;TZID=America/Chicago:20210809T123000
LOCATION:
SUMMARY:Annual Opening Doors Event
END:VEVENT
END:VCALENDAR
