BEGIN:VCALENDAR
VERSION:2.0
PRODID:-//phil.firespring.org//NONSGML kigkonsult.se iCalcreator 2.30.10//
CALSCALE:GREGORIAN
METHOD:PUBLISH
UID:1de5cf32-6f7f-4917-96b7-c6c3e80f9212
X-WR-CALDESC:Please bring drinking water
X-WR-RELCALID:e3de0bcdf1de6fbd4541397cffa42b0c
X-WR-TIMEZONE:America/Chicago
BEGIN:VTIMEZONE
TZID:America/Chicago
BEGIN:STANDARD
TZNAME:CST
DTSTART:20201101T020000
TZOFFSETFROM:-0500
TZOFFSETTO:-0600
RDATE:20211107T020000
RDATE:20221106T020000
END:STANDARD
BEGIN:DAYLIGHT
TZNAME:CDT
DTSTART:20210314T020000
TZOFFSETFROM:-0600
TZOFFSETTO:-0500
RDATE:20220313T020000
END:DAYLIGHT
END:VTIMEZONE
BEGIN:VEVENT
UID:4a8dcb14-4c3d-4488-a99e-7f69e67c01f7
DTSTAMP:20260423T064723Z
DESCRIPTION:Please bring drinking water
DTSTART;TZID=America/Chicago:20210812T160000
DTEND;TZID=America/Chicago:20210812T170000
LOCATION:Firespring
SUMMARY:Walking Group
END:VEVENT
END:VCALENDAR
