BEGIN:VCALENDAR
VERSION:2.0
PRODID:-//phil.firespring.org//NONSGML kigkonsult.se iCalcreator 2.30.10//
CALSCALE:GREGORIAN
METHOD:PUBLISH
UID:0f1ee7c3-c80a-4d33-964f-2c0900797015
X-WR-CALDESC:
X-WR-RELCALID:98162b691c662bf201d6c8a5715a13c8
X-WR-TIMEZONE:America/Chicago
BEGIN:VTIMEZONE
TZID:America/Chicago
BEGIN:STANDARD
TZNAME:CST
DTSTART:20201101T020000
TZOFFSETFROM:-0500
TZOFFSETTO:-0600
RDATE:20211107T020000
RDATE:20221106T020000
END:STANDARD
BEGIN:DAYLIGHT
TZNAME:CDT
DTSTART:20210314T020000
TZOFFSETFROM:-0600
TZOFFSETTO:-0500
RDATE:20220313T020000
END:DAYLIGHT
END:VTIMEZONE
BEGIN:VEVENT
UID:f9f961b9-3a40-465a-95d9-7d8853aa5d21
DTSTAMP:20260423T064953Z
DESCRIPTION:
DTSTART;TZID=America/Chicago:20210819T133000
DTEND;TZID=America/Chicago:20210819T143000
LOCATION:
SUMMARY:Monthly Lunch
END:VEVENT
END:VCALENDAR
