BEGIN:VCALENDAR
VERSION:2.0
PRODID:-//phil.firespring.org//NONSGML kigkonsult.se iCalcreator 2.30.10//
CALSCALE:GREGORIAN
METHOD:PUBLISH
UID:1d15a3a1-8839-482c-b901-127f9244a562
X-WR-CALDESC:Please bring drinking water
X-WR-RELCALID:ae93bfd58ee1cffa1c6e27d618cf0401
X-WR-TIMEZONE:America/Chicago
BEGIN:VTIMEZONE
TZID:America/Chicago
BEGIN:STANDARD
TZNAME:CST
DTSTART:20201101T020000
TZOFFSETFROM:-0500
TZOFFSETTO:-0600
RDATE:20211107T020000
RDATE:20221106T020000
END:STANDARD
BEGIN:DAYLIGHT
TZNAME:CDT
DTSTART:20210314T020000
TZOFFSETFROM:-0600
TZOFFSETTO:-0500
RDATE:20220313T020000
END:DAYLIGHT
END:VTIMEZONE
BEGIN:VEVENT
UID:226885ac-d2b3-4a30-a4ef-6aa9675f7ab9
DTSTAMP:20260423T064707Z
DESCRIPTION:Please bring drinking water
DTSTART;TZID=America/Chicago:20210819T160000
DTEND;TZID=America/Chicago:20210819T170000
LOCATION:Firespring
SUMMARY:Walking Group
END:VEVENT
END:VCALENDAR
