BEGIN:VCALENDAR
VERSION:2.0
PRODID:-//phil.firespring.org//NONSGML kigkonsult.se iCalcreator 2.30.10//
CALSCALE:GREGORIAN
METHOD:PUBLISH
UID:b04cec17-9c86-424b-9fc3-d9c9dc502b75
X-WR-CALDESC:Please bring drinking water
X-WR-RELCALID:af92cb580160945d190c33b846faff75
X-WR-TIMEZONE:America/Chicago
BEGIN:VTIMEZONE
TZID:America/Chicago
BEGIN:STANDARD
TZNAME:CST
DTSTART:20201101T020000
TZOFFSETFROM:-0500
TZOFFSETTO:-0600
RDATE:20211107T020000
RDATE:20221106T020000
END:STANDARD
BEGIN:DAYLIGHT
TZNAME:CDT
DTSTART:20210314T020000
TZOFFSETFROM:-0600
TZOFFSETTO:-0500
RDATE:20220313T020000
END:DAYLIGHT
END:VTIMEZONE
BEGIN:VEVENT
UID:d639e97f-4a85-4b9b-a68a-78e061091de8
DTSTAMP:20260423T064723Z
DESCRIPTION:Please bring drinking water
DTSTART;TZID=America/Chicago:20210826T160000
DTEND;TZID=America/Chicago:20210826T170000
LOCATION:Firespring
SUMMARY:Walking Group
END:VEVENT
END:VCALENDAR
