BEGIN:VCALENDAR
VERSION:2.0
PRODID:-//phil.firespring.org//NONSGML kigkonsult.se iCalcreator 2.30.10//
CALSCALE:GREGORIAN
METHOD:PUBLISH
UID:f3bc6582-68b2-4942-a193-a370f05f8a7b
X-WR-CALDESC:
X-WR-RELCALID:8fd9ef4d4104d2bf84ed1f4f7613699a
X-WR-TIMEZONE:America/Chicago
BEGIN:VTIMEZONE
TZID:America/Chicago
BEGIN:STANDARD
TZNAME:CST
DTSTART:20201101T020000
TZOFFSETFROM:-0500
TZOFFSETTO:-0600
RDATE:20211107T020000
RDATE:20221106T020000
END:STANDARD
BEGIN:DAYLIGHT
TZNAME:CDT
DTSTART:20210314T020000
TZOFFSETFROM:-0600
TZOFFSETTO:-0500
RDATE:20220313T020000
RDATE:20230312T020000
END:DAYLIGHT
END:VTIMEZONE
BEGIN:VEVENT
UID:166c1496-2f34-43b9-9603-46e29c555a1a
DTSTAMP:20260423T051717Z
DESCRIPTION:
DTSTART;TZID=America/Chicago:20210928T110000
DTEND;TZID=America/Chicago:20210928T120000
LOCATION:
SUMMARY:Housing Training
END:VEVENT
END:VCALENDAR
