BEGIN:VCALENDAR
VERSION:2.0
PRODID:-//phil.firespring.org//NONSGML kigkonsult.se iCalcreator 2.30.10//
CALSCALE:GREGORIAN
METHOD:PUBLISH
UID:f9698a3b-b25e-48bf-bc0f-350a7b9718e5
X-WR-CALDESC:Please bring drinking water
X-WR-RELCALID:1398dfc433806acce01996a1cd253fe0
X-WR-TIMEZONE:America/Chicago
BEGIN:VTIMEZONE
TZID:America/Chicago
BEGIN:STANDARD
TZNAME:CST
DTSTART:20201101T020000
TZOFFSETFROM:-0500
TZOFFSETTO:-0600
RDATE:20211107T020000
RDATE:20221106T020000
END:STANDARD
BEGIN:DAYLIGHT
TZNAME:CDT
DTSTART:20210314T020000
TZOFFSETFROM:-0600
TZOFFSETTO:-0500
RDATE:20220313T020000
RDATE:20230312T020000
END:DAYLIGHT
END:VTIMEZONE
BEGIN:VEVENT
UID:da8d9f1d-9010-4e1f-9053-d4c6cb554b72
DTSTAMP:20260423T034431Z
DESCRIPTION:Please bring drinking water
DTSTART;TZID=America/Chicago:20211007T160000
DTEND;TZID=America/Chicago:20211007T170000
LOCATION:Firespring
SUMMARY:Walking Group
END:VEVENT
END:VCALENDAR
