BEGIN:VCALENDAR
VERSION:2.0
PRODID:-//phil.firespring.org//NONSGML kigkonsult.se iCalcreator 2.30.10//
CALSCALE:GREGORIAN
METHOD:PUBLISH
UID:490c43c2-e831-4b72-ba8e-34b1d9c93913
X-WR-CALDESC:
X-WR-RELCALID:a3ebf4bd9cb3c61f55077da54d6d0d67
X-WR-TIMEZONE:America/Chicago
BEGIN:VTIMEZONE
TZID:America/Chicago
BEGIN:STANDARD
TZNAME:CST
DTSTART:20201101T020000
TZOFFSETFROM:-0500
TZOFFSETTO:-0600
RDATE:20211107T020000
RDATE:20221106T020000
END:STANDARD
BEGIN:DAYLIGHT
TZNAME:CDT
DTSTART:20210314T020000
TZOFFSETFROM:-0600
TZOFFSETTO:-0500
RDATE:20220313T020000
RDATE:20230312T020000
END:DAYLIGHT
END:VTIMEZONE
BEGIN:VEVENT
UID:d95510a3-cf8f-4027-8be6-fdee22cdedd0
DTSTAMP:20260423T034400Z
DESCRIPTION:
DTSTART;TZID=America/Chicago:20211026T143000
DTEND;TZID=America/Chicago:20211026T153000
LOCATION:
SUMMARY:Bowling Party
END:VEVENT
END:VCALENDAR
