BEGIN:VCALENDAR
VERSION:2.0
PRODID:-//phil.firespring.org//NONSGML kigkonsult.se iCalcreator 2.30.10//
CALSCALE:GREGORIAN
METHOD:PUBLISH
UID:5ec039b2-c688-48ce-8d6d-37ff4237ac6e
X-WR-CALDESC:Please bring drinking water
X-WR-RELCALID:cc0cdb46b38451b6bb6b6e711ae80831
X-WR-TIMEZONE:America/Chicago
BEGIN:VTIMEZONE
TZID:America/Chicago
BEGIN:STANDARD
TZNAME:CST
DTSTART:20201101T020000
TZOFFSETFROM:-0500
TZOFFSETTO:-0600
RDATE:20211107T020000
RDATE:20221106T020000
END:STANDARD
BEGIN:DAYLIGHT
TZNAME:CDT
DTSTART:20210314T020000
TZOFFSETFROM:-0600
TZOFFSETTO:-0500
RDATE:20220313T020000
RDATE:20230312T020000
END:DAYLIGHT
END:VTIMEZONE
BEGIN:VEVENT
UID:5860f57a-df4b-47c5-81c8-034a073d658e
DTSTAMP:20260423T034533Z
DESCRIPTION:Please bring drinking water
DTSTART;TZID=America/Chicago:20211028T160000
DTEND;TZID=America/Chicago:20211028T170000
LOCATION:Firespring
SUMMARY:Walking Group
END:VEVENT
END:VCALENDAR
