BEGIN:VCALENDAR
VERSION:2.0
PRODID:-//phil.firespring.org//NONSGML kigkonsult.se iCalcreator 2.30.10//
CALSCALE:GREGORIAN
METHOD:PUBLISH
UID:28b1dbf1-5ddc-416f-a6a4-0e1b181e5c0e
X-WR-CALDESC:
X-WR-RELCALID:bd04b363d3b97ac6e040dd3f24bc067b
X-WR-TIMEZONE:America/Chicago
BEGIN:VTIMEZONE
TZID:America/Chicago
BEGIN:STANDARD
TZNAME:CST
DTSTART:20201101T020000
TZOFFSETFROM:-0500
TZOFFSETTO:-0600
RDATE:20211107T020000
RDATE:20221106T020000
END:STANDARD
BEGIN:DAYLIGHT
TZNAME:CDT
DTSTART:20210314T020000
TZOFFSETFROM:-0600
TZOFFSETTO:-0500
RDATE:20220313T020000
RDATE:20230312T020000
END:DAYLIGHT
END:VTIMEZONE
BEGIN:VEVENT
UID:5e120cd9-0ffd-4815-aa6d-dc2a86970d2b
DTSTAMP:20260423T034244Z
DESCRIPTION:
DTSTART;TZID=America/Chicago:20211028T153000
DTEND;TZID=America/Chicago:20211028T163000
LOCATION:
SUMMARY:Annual Breakfast
END:VEVENT
END:VCALENDAR
