BEGIN:VCALENDAR
VERSION:2.0
PRODID:-//phil.firespring.org//NONSGML kigkonsult.se iCalcreator 2.30.10//
CALSCALE:GREGORIAN
METHOD:PUBLISH
UID:a38b9bef-a467-4aa5-bd79-48742e4e7e1c
X-WR-CALDESC:
X-WR-RELCALID:e8d2f49dd658ca63e40a43022ccc1cbf
X-WR-TIMEZONE:America/Chicago
BEGIN:VTIMEZONE
TZID:America/Chicago
BEGIN:STANDARD
TZNAME:CST
DTSTART:20201101T020000
TZOFFSETFROM:-0500
TZOFFSETTO:-0600
RDATE:20211107T020000
RDATE:20221106T020000
END:STANDARD
BEGIN:DAYLIGHT
TZNAME:CDT
DTSTART:20210314T020000
TZOFFSETFROM:-0600
TZOFFSETTO:-0500
RDATE:20220313T020000
RDATE:20230312T020000
END:DAYLIGHT
END:VTIMEZONE
BEGIN:VEVENT
UID:142d08a3-6239-4c2a-a1e2-a8533fdc4644
DTSTAMP:20260423T034406Z
DESCRIPTION:
DTSTART;TZID=America/Chicago:20211028T100000
DTEND;TZID=America/Chicago:20211028T110000
LOCATION:
SUMMARY:Gala 2021
END:VEVENT
END:VCALENDAR
