BEGIN:VCALENDAR
VERSION:2.0
PRODID:-//phil.firespring.org//NONSGML kigkonsult.se iCalcreator 2.30.10//
CALSCALE:GREGORIAN
METHOD:PUBLISH
UID:17fe0e80-475f-405b-9c0a-1a5e4b195ae6
X-WR-CALDESC:
X-WR-RELCALID:f2bb39bd7323d33954a82cbb689afdeb
X-WR-TIMEZONE:America/Chicago
BEGIN:VTIMEZONE
TZID:America/Chicago
BEGIN:STANDARD
TZNAME:CST
DTSTART:20201101T020000
TZOFFSETFROM:-0500
TZOFFSETTO:-0600
RDATE:20211107T020000
RDATE:20221106T020000
END:STANDARD
BEGIN:DAYLIGHT
TZNAME:CDT
DTSTART:20210314T020000
TZOFFSETFROM:-0600
TZOFFSETTO:-0500
RDATE:20220313T020000
RDATE:20230312T020000
END:DAYLIGHT
END:VTIMEZONE
BEGIN:VEVENT
UID:d224a558-7617-4207-a64d-4dcd12d6c00f
DTSTAMP:20260423T041210Z
DESCRIPTION:
DTSTART;TZID=America/Chicago:20211031T143000
DTEND;TZID=America/Chicago:20211031T153000
LOCATION:
SUMMARY:Gala
END:VEVENT
END:VCALENDAR
