BEGIN:VCALENDAR
VERSION:2.0
PRODID:-//phil.firespring.org//NONSGML kigkonsult.se iCalcreator 2.30.10//
CALSCALE:GREGORIAN
METHOD:PUBLISH
UID:14aedf3a-8f56-4890-9038-d673b6ac9c9a
X-WR-CALDESC:
X-WR-RELCALID:6a0fed4aff96af47d18e5a0f77935bcd
X-WR-TIMEZONE:America/Chicago
BEGIN:VTIMEZONE
TZID:America/Chicago
BEGIN:STANDARD
TZNAME:CST
DTSTART:20201101T020000
TZOFFSETFROM:-0500
TZOFFSETTO:-0600
RDATE:20211107T020000
RDATE:20221106T020000
END:STANDARD
BEGIN:DAYLIGHT
TZNAME:CDT
DTSTART:20210314T020000
TZOFFSETFROM:-0600
TZOFFSETTO:-0500
RDATE:20220313T020000
RDATE:20230312T020000
END:DAYLIGHT
END:VTIMEZONE
BEGIN:VEVENT
UID:57b94fa9-3afc-426e-b5b8-7aa225ef7428
DTSTAMP:20260423T034533Z
DESCRIPTION:
DTSTART;TZID=America/Chicago:20211031T110000
DTEND;TZID=America/Chicago:20211031T120000
LOCATION:
SUMMARY:Thank you Dinner
END:VEVENT
END:VCALENDAR
