BEGIN:VCALENDAR
VERSION:2.0
PRODID:-//phil.firespring.org//NONSGML kigkonsult.se iCalcreator 2.30.10//
CALSCALE:GREGORIAN
METHOD:PUBLISH
UID:7db82fdf-cc1b-48cb-a3bd-8cc6d800fd1b
X-WR-CALDESC:Please bring drinking water
X-WR-RELCALID:1cd1d6e6880974397ed6adac752ccba4
X-WR-TIMEZONE:America/Chicago
BEGIN:VTIMEZONE
TZID:America/Chicago
BEGIN:STANDARD
TZNAME:CST
DTSTART:20211107T020000
TZOFFSETFROM:-0500
TZOFFSETTO:-0600
RDATE:20221106T020000
END:STANDARD
BEGIN:DAYLIGHT
TZNAME:CDT
DTSTART:20210314T020000
TZOFFSETFROM:-0600
TZOFFSETTO:-0500
RDATE:20220313T020000
RDATE:20230312T020000
END:DAYLIGHT
END:VTIMEZONE
BEGIN:VEVENT
UID:d4f20d61-b1c0-43f8-8b79-8b91f9fc7844
DTSTAMP:20260423T024949Z
DESCRIPTION:Please bring drinking water
DTSTART;TZID=America/Chicago:20211118T160000
DTEND;TZID=America/Chicago:20211118T170000
LOCATION:Firespring
SUMMARY:Walking Group
END:VEVENT
END:VCALENDAR
