BEGIN:VCALENDAR
VERSION:2.0
PRODID:-//phil.firespring.org//NONSGML kigkonsult.se iCalcreator 2.30.10//
CALSCALE:GREGORIAN
METHOD:PUBLISH
UID:e91b1946-3840-4fa2-97eb-cb2670b6a7e8
X-WR-CALDESC:
X-WR-RELCALID:4092742415d57a4fde67c638c8284795
X-WR-TIMEZONE:America/Chicago
BEGIN:VTIMEZONE
TZID:America/Chicago
BEGIN:STANDARD
TZNAME:CST
DTSTART:20211107T020000
TZOFFSETFROM:-0500
TZOFFSETTO:-0600
RDATE:20221106T020000
END:STANDARD
BEGIN:DAYLIGHT
TZNAME:CDT
DTSTART:20210314T020000
TZOFFSETFROM:-0600
TZOFFSETTO:-0500
RDATE:20220313T020000
RDATE:20230312T020000
END:DAYLIGHT
END:VTIMEZONE
BEGIN:VEVENT
UID:e330765a-db1d-4c52-8bf0-f684ef52a1d9
DTSTAMP:20260423T021314Z
DESCRIPTION:
DTSTART;TZID=America/Chicago:20211119T103000
DTEND;TZID=America/Chicago:20211119T113000
LOCATION:
SUMMARY:Annual Meeting
END:VEVENT
END:VCALENDAR
