BEGIN:VCALENDAR
VERSION:2.0
PRODID:-//phil.firespring.org//NONSGML kigkonsult.se iCalcreator 2.30.10//
CALSCALE:GREGORIAN
METHOD:PUBLISH
UID:4f5742ab-c863-425a-83fe-acd4de97002c
X-WR-CALDESC:
X-WR-RELCALID:68b2a2eaa8059ffd299b5b9bc7efa7e7
X-WR-TIMEZONE:America/Chicago
BEGIN:VTIMEZONE
TZID:America/Chicago
BEGIN:STANDARD
TZNAME:CST
DTSTART:20211107T020000
TZOFFSETFROM:-0500
TZOFFSETTO:-0600
RDATE:20221106T020000
END:STANDARD
BEGIN:DAYLIGHT
TZNAME:CDT
DTSTART:20210314T020000
TZOFFSETFROM:-0600
TZOFFSETTO:-0500
RDATE:20220313T020000
RDATE:20230312T020000
END:DAYLIGHT
END:VTIMEZONE
BEGIN:VEVENT
UID:e201d29f-29d7-4a63-bd76-30182b0f411c
DTSTAMP:20260423T023406Z
DESCRIPTION:
DTSTART;TZID=America/Chicago:20211120T133000
DTEND;TZID=America/Chicago:20211120T143000
LOCATION:
SUMMARY:Gala
END:VEVENT
END:VCALENDAR
