BEGIN:VCALENDAR
VERSION:2.0
PRODID:-//phil.firespring.org//NONSGML kigkonsult.se iCalcreator 2.30.10//
CALSCALE:GREGORIAN
METHOD:PUBLISH
UID:e066e80a-fc96-4a46-96c2-1a125c7dbf15
X-WR-CALDESC:
X-WR-RELCALID:720100f328cce2d9d8049068c72838c0
X-WR-TIMEZONE:America/Chicago
BEGIN:VTIMEZONE
TZID:America/Chicago
BEGIN:STANDARD
TZNAME:CST
DTSTART:20211107T020000
TZOFFSETFROM:-0500
TZOFFSETTO:-0600
RDATE:20221106T020000
END:STANDARD
BEGIN:DAYLIGHT
TZNAME:CDT
DTSTART:20210314T020000
TZOFFSETFROM:-0600
TZOFFSETTO:-0500
RDATE:20220313T020000
RDATE:20230312T020000
END:DAYLIGHT
END:VTIMEZONE
BEGIN:VEVENT
UID:5da6ca3e-fbf1-42bb-95e4-f8e815348d5c
DTSTAMP:20260423T021038Z
DESCRIPTION:
DTSTART;TZID=America/Chicago:20211130T103000
DTEND;TZID=America/Chicago:20211130T113000
LOCATION:
SUMMARY:Annual Conference
END:VEVENT
END:VCALENDAR
