BEGIN:VCALENDAR
VERSION:2.0
PRODID:-//phil.firespring.org//NONSGML kigkonsult.se iCalcreator 2.30.10//
CALSCALE:GREGORIAN
METHOD:PUBLISH
UID:05b0eee4-b4ef-44d4-a377-c8d171a85157
X-WR-CALDESC:
X-WR-RELCALID:de39aa31bbb4ba299811e4beaefc2fcf
X-WR-TIMEZONE:America/Chicago
BEGIN:VTIMEZONE
TZID:America/Chicago
BEGIN:STANDARD
TZNAME:CST
DTSTART:20211107T020000
TZOFFSETFROM:-0500
TZOFFSETTO:-0600
RDATE:20221106T020000
END:STANDARD
BEGIN:DAYLIGHT
TZNAME:CDT
DTSTART:20210314T020000
TZOFFSETFROM:-0600
TZOFFSETTO:-0500
RDATE:20220313T020000
RDATE:20230312T020000
END:DAYLIGHT
END:VTIMEZONE
BEGIN:VEVENT
UID:d54adc5a-9e89-4b78-81b8-960bd8846517
DTSTAMP:20260423T021121Z
DESCRIPTION:
DTSTART;TZID=America/Chicago:20211130T100000
DTEND;TZID=America/Chicago:20211130T110000
LOCATION:
SUMMARY:Men Who Cook
END:VEVENT
END:VCALENDAR
